BEGIN:VCALENDAR
VERSION:2.0
PRODID:-//39Laundry//Exhibition//TR
CALSCALE:GREGORIAN
METHOD:PUBLISH
BEGIN:VEVENT
UID:exh-9@39laundry.com.tr
DTSTAMP:20260420T045108Z
DTSTART;VALUE=DATE:20211103
DTEND;VALUE=DATE:20220102
SUMMARY:Muamma
LOCATION:Mahallede Sanat
DESCRIPTION:https://39laundry.com.tr/exhibition.php?ics=1&id=9
URL;VALUE=URI:https://39laundry.com.tr/exhibition.php?ics=1&id=9
END:VEVENT
END:VCALENDAR