BEGIN:VCALENDAR
VERSION:2.0
PRODID:-//39Laundry//Exhibition//TR
CALSCALE:GREGORIAN
METHOD:PUBLISH
BEGIN:VEVENT
UID:exh-8@39laundry.com.tr
DTSTAMP:20260420T045244Z
DTSTART;VALUE=DATE:20210901
DTEND;VALUE=DATE:20211103
SUMMARY:Past In Yet
LOCATION:Mahallede Sanat
DESCRIPTION:https://39laundry.com.tr/exhibition.php?ics=1&id=8
URL;VALUE=URI:https://39laundry.com.tr/exhibition.php?ics=1&id=8
END:VEVENT
END:VCALENDAR