BEGIN:VCALENDAR
VERSION:2.0
PRODID:-//39Laundry//Exhibition//TR
CALSCALE:GREGORIAN
METHOD:PUBLISH
BEGIN:VEVENT
UID:exh-7@39laundry.com.tr
DTSTAMP:20260420T045109Z
DTSTART;VALUE=DATE:20251213
DTEND;VALUE=DATE:20260126
SUMMARY:Aralık
LOCATION:Mahallede Sanat
DESCRIPTION:“Aralık”\, iki şey arasındaki mesafe kadar\, bir bakışın diğerine temas ettiği andır.\n\nİki sanatçı\, iki farklı görüşle\; Görünenle görünmeyen\, içeriden bakışla dışarıdan izlenme arasındaki o ince geçitte bizleri buluşturuyor.\nAyşe Kıran’ın Panoptikon düşüncesinden beslenen portreleri\, günümüzün sürekli gözetim altında yaşayan bireyini odağına alır. Sanatçı\, görünme arzusunun izlenmeye verdiği onayla nasıl iç içe geçtiğini\, bu onayın özgürlüğü nasıl sınırladığını ve bireyin bilinçaltında bıraktığı teslimiyet izlerini görünür kılar. Kıran’ın figürleri\, maruz kalma ile korunma arasındaki o “İnce Aralık” ta durur\; izleyiciyi hem bakan hem bakılan konumuna yerleştirir.\nEsra Yılmaz’ın soyut kompozisyonları ise kontrol ve tesadüf arasındaki dengeyi araştırır.\nBoyanın yüzeye akışı\, sanatçının yönlendirmesi kadar maddenin kendi iradesine de alan tanır.\nRenk ve biçim\, anlamdan önce gelir\; izleyici\, bu rastlantısal akışın içinde bir duygu tortusuyla karşılaşır. Yılmaz’ın eserlerinde “Aralık”\, çözülmeyen\, sabitlenmeyen\, sessiz bir geçiş olarak var olur.\nBu sergi\, iki sanatçının farklı ifade biçimlerinin ortak bir kavramsal düzlemde buluştuğu bir alanda\, insanın hem kendine hem de dış dünyaya dair arayışını sürdürdüğü yerde konumlanıyor….\nSınırla geçişin\,\nTeslimiyetle özgürlüğün\,\nİçle dışın birbirine karıştığı o belirsiz alanda\,\nTam da Aralık’ta…\nhttps://39laundry.com.tr/exhibition.php?ics=1&id=7
URL;VALUE=URI:https://39laundry.com.tr/exhibition.php?ics=1&id=7
END:VEVENT
END:VCALENDAR