BEGIN:VCALENDAR
VERSION:2.0
PRODID:-//39Laundry//Exhibition//TR
CALSCALE:GREGORIAN
METHOD:PUBLISH
BEGIN:VEVENT
UID:exh-6@39laundry.com.tr
DTSTAMP:20260420T045242Z
DTSTART;VALUE=DATE:20251203
DTEND;VALUE=DATE:20251211
SUMMARY:Aklıma Notlar
LOCATION:Mahallede Sanat
DESCRIPTION:Bu sergide yer alan tüm eserler\;\nbir yerlerde okunmuş\, duyulmuş\, görülmüş\, gözlemlenmiş\, dinlenmiş veya yaşanmış onlarca hikayeden filtre edilerek resmedilmiş görsel kurgulardır. \n\nHer eserde farklı bir görsel iz\, her detayda farklı bir çizgi\, her çizgide ise ayrı bir öykü gizli. Bu öyküler bazen gerçek hayatın birebir yansıması\, bazen de manipule edilmiş halleriyle eserlerde kendine yer buluyor. Tüm eserler mimari metodoloji ve düşünce zinciri ile kurgulanmış olup\, üretim sürecinde farklı disiplinlerde malzemelere taşınmıştır.\n\nEserler\, yıllar içinde aklıma yazmış olduğum tüm notları yansıtmakta. Bazen kendimle\, bazen bir ünlüyle\, bazen de bir grafik leke ile... Aklımdan aklınıza notlar... \n\nİyi seyirler.\nhttps://39laundry.com.tr/exhibition.php?ics=1&id=6
URL;VALUE=URI:https://39laundry.com.tr/exhibition.php?ics=1&id=6
END:VEVENT
END:VCALENDAR