BEGIN:VCALENDAR
VERSION:2.0
PRODID:-//39Laundry//Exhibition//TR
CALSCALE:GREGORIAN
METHOD:PUBLISH
BEGIN:VEVENT
UID:exh-5@39laundry.com.tr
DTSTAMP:20260420T045108Z
DTSTART;VALUE=DATE:20251115
DTEND;VALUE=DATE:20251130
SUMMARY:Hayal\, Gerçek ve Renk
LOCATION:Mahallede Sanat
DESCRIPTION:Sanat\, bazen bir anın büyüsünü yeniden yaşatmanın\, bazen de gerçeği hayalle harmanlayarak bambaşka bir dünyaya açılmanın yoludur.\nBenim için resim yapmak da tam olarak böyle bir yolculuk…\nÇalışmalarımın merkezinde her zaman doğa var. Çünkü doğa\, benim için tükenmeyen bir ilham kaynağı… Zaman zaman beni büyüleyen bir manzarayı fotoğrafla kaydediyor\, ardından o anın ruhunu\, kendi renklerim ve yorumumla yeniden hayat bulacak şekilde tuvale taşıyorum.\nBu süreç\, benim için bir tür yaratıcı oyun: her fırça darbesi yeni bir keşif\, her renk yeni bir heyecan…\n\nDaha önce yine burada gerçekleştirdiğim “Karşılaşma” sergisinde bir araya geldiğimiz Düş Gezginleri ile\, şimdi “Hayal\, Gerçek ve Renk” başlıklı yeni sergide yeniden buluşuyoruz.\nhttps://39laundry.com.tr/exhibition.php?ics=1&id=5
URL;VALUE=URI:https://39laundry.com.tr/exhibition.php?ics=1&id=5
END:VEVENT
END:VCALENDAR