BEGIN:VCALENDAR
VERSION:2.0
PRODID:-//39Laundry//Exhibition//TR
CALSCALE:GREGORIAN
METHOD:PUBLISH
BEGIN:VEVENT
UID:exh-28@39laundry.com.tr
DTSTAMP:20260420T045134Z
DTSTART;VALUE=DATE:20240710
DTEND;VALUE=DATE:20240901
SUMMARY:RASTLANTI\;BİR BAŞLANGIÇ
LOCATION:Mahallede Sanat
DESCRIPTION:https://39laundry.com.tr/exhibition.php?ics=1&id=28
URL;VALUE=URI:https://39laundry.com.tr/exhibition.php?ics=1&id=28
END:VEVENT
END:VCALENDAR