BEGIN:VCALENDAR
VERSION:2.0
PRODID:-//39Laundry//Exhibition//TR
CALSCALE:GREGORIAN
METHOD:PUBLISH
BEGIN:VEVENT
UID:exh-27@39laundry.com.tr
DTSTAMP:20260420T045146Z
DTSTART;VALUE=DATE:20210307
DTEND;VALUE=DATE:20210408
SUMMARY:8 Mart Dünya Kadınlar Günü
LOCATION:Mahallede Sanat
DESCRIPTION:https://39laundry.com.tr/exhibition.php?ics=1&id=27
URL;VALUE=URI:https://39laundry.com.tr/exhibition.php?ics=1&id=27
END:VEVENT
END:VCALENDAR