BEGIN:VCALENDAR
VERSION:2.0
PRODID:-//39Laundry//Exhibition//TR
CALSCALE:GREGORIAN
METHOD:PUBLISH
BEGIN:VEVENT
UID:exh-26@39laundry.com.tr
DTSTAMP:20260420T045135Z
DTSTART;VALUE=DATE:20210609
DTEND;VALUE=DATE:20210710
SUMMARY:38 Sanatçı 39 Galeri’de Buluşuyor
LOCATION:Mahallede Sanat
DESCRIPTION:Dr. Feride Çelik Küratörlüğünde İyilik İçin Sanat Derneği 304. Sanat Buluşması\nhttps://39laundry.com.tr/exhibition.php?ics=1&id=26
URL;VALUE=URI:https://39laundry.com.tr/exhibition.php?ics=1&id=26
END:VEVENT
END:VCALENDAR