BEGIN:VCALENDAR
VERSION:2.0
PRODID:-//39Laundry//Exhibition//TR
CALSCALE:GREGORIAN
METHOD:PUBLISH
BEGIN:VEVENT
UID:exh-25@39laundry.com.tr
DTSTAMP:20260420T045147Z
DTSTART;VALUE=DATE:20250712
DTEND;VALUE=DATE:20250813
SUMMARY:Sait Günel Kişisel Resim Sergisi
LOCATION:Mahallede Sanat
DESCRIPTION:https://39laundry.com.tr/exhibition.php?ics=1&id=25
URL;VALUE=URI:https://39laundry.com.tr/exhibition.php?ics=1&id=25
END:VEVENT
END:VCALENDAR