BEGIN:VCALENDAR
VERSION:2.0
PRODID:-//39Laundry//Exhibition//TR
CALSCALE:GREGORIAN
METHOD:PUBLISH
BEGIN:VEVENT
UID:exh-24@39laundry.com.tr
DTSTAMP:20260420T045134Z
DTSTART;VALUE=DATE:20250414
DTEND;VALUE=DATE:20250417
SUMMARY:Bir Damla
LOCATION:Mahallede Sanat
DESCRIPTION:https://39laundry.com.tr/exhibition.php?ics=1&id=24
URL;VALUE=URI:https://39laundry.com.tr/exhibition.php?ics=1&id=24
END:VEVENT
END:VCALENDAR