BEGIN:VCALENDAR
VERSION:2.0
PRODID:-//39Laundry//Exhibition//TR
CALSCALE:GREGORIAN
METHOD:PUBLISH
BEGIN:VEVENT
UID:exh-23@39laundry.com.tr
DTSTAMP:20260420T045133Z
DTSTART;VALUE=DATE:20250419
DTEND;VALUE=DATE:20250427
SUMMARY:Bir ileri Dönüşüm Sergisi
LOCATION:Mahallede Sanat
DESCRIPTION:https://39laundry.com.tr/exhibition.php?ics=1&id=23
URL;VALUE=URI:https://39laundry.com.tr/exhibition.php?ics=1&id=23
END:VEVENT
END:VCALENDAR