BEGIN:VCALENDAR
VERSION:2.0
PRODID:-//39Laundry//Exhibition//TR
CALSCALE:GREGORIAN
METHOD:PUBLISH
BEGIN:VEVENT
UID:exh-22@39laundry.com.tr
DTSTAMP:20260420T045146Z
DTSTART;VALUE=DATE:20241116
DTEND;VALUE=DATE:20241217
SUMMARY:İmge ve Sezgi: Açık İnşa II
LOCATION:Mahallede Sanat
DESCRIPTION:https://39laundry.com.tr/exhibition.php?ics=1&id=22
URL;VALUE=URI:https://39laundry.com.tr/exhibition.php?ics=1&id=22
END:VEVENT
END:VCALENDAR