BEGIN:VCALENDAR
VERSION:2.0
PRODID:-//39Laundry//Exhibition//TR
CALSCALE:GREGORIAN
METHOD:PUBLISH
BEGIN:VEVENT
UID:exh-20@39laundry.com.tr
DTSTAMP:20260420T045135Z
DTSTART;VALUE=DATE:20231023
DTEND;VALUE=DATE:20231024
SUMMARY:Karşılaşma
LOCATION:Mahallede Sanat
DESCRIPTION:https://39laundry.com.tr/exhibition.php?ics=1&id=20
URL;VALUE=URI:https://39laundry.com.tr/exhibition.php?ics=1&id=20
END:VEVENT
END:VCALENDAR