BEGIN:VCALENDAR
VERSION:2.0
PRODID:-//39Laundry//Exhibition//TR
CALSCALE:GREGORIAN
METHOD:PUBLISH
BEGIN:VEVENT
UID:exh-18@39laundry.com.tr
DTSTAMP:20260420T045133Z
DTSTART;VALUE=DATE:20230922
DTEND;VALUE=DATE:20230923
SUMMARY:Bir Düş Gördüm
LOCATION:Mahallede Sanat
DESCRIPTION:https://39laundry.com.tr/exhibition.php?ics=1&id=18
URL;VALUE=URI:https://39laundry.com.tr/exhibition.php?ics=1&id=18
END:VEVENT
END:VCALENDAR