BEGIN:VCALENDAR
VERSION:2.0
PRODID:-//39Laundry//Exhibition//TR
CALSCALE:GREGORIAN
METHOD:PUBLISH
BEGIN:VEVENT
UID:exh-16@39laundry.com.tr
DTSTAMP:20260420T045133Z
DTSTART;VALUE=DATE:20230510
DTEND;VALUE=DATE:20230529
SUMMARY:Kısmet Anı
LOCATION:Mahallede Sanat
DESCRIPTION:https://39laundry.com.tr/exhibition.php?ics=1&id=16
URL;VALUE=URI:https://39laundry.com.tr/exhibition.php?ics=1&id=16
END:VEVENT
END:VCALENDAR