BEGIN:VCALENDAR
VERSION:2.0
PRODID:-//39Laundry//Exhibition//TR
CALSCALE:GREGORIAN
METHOD:PUBLISH
BEGIN:VEVENT
UID:exh-15@39laundry.com.tr
DTSTAMP:20260420T045144Z
DTSTART;VALUE=DATE:20231117
DTEND;VALUE=DATE:20231218
SUMMARY:Yoldaş
LOCATION:Mahallede Sanat
DESCRIPTION:https://39laundry.com.tr/exhibition.php?ics=1&id=15
URL;VALUE=URI:https://39laundry.com.tr/exhibition.php?ics=1&id=15
END:VEVENT
END:VCALENDAR