BEGIN:VCALENDAR
VERSION:2.0
PRODID:-//39Laundry//Exhibition//TR
CALSCALE:GREGORIAN
METHOD:PUBLISH
BEGIN:VEVENT
UID:exh-12@39laundry.com.tr
DTSTAMP:20260420T045134Z
DTSTART;VALUE=DATE:20220516
DTEND;VALUE=DATE:20220617
SUMMARY:The Fat and The Beautiful
LOCATION:Mahallede Sanat
DESCRIPTION:https://39laundry.com.tr/exhibition.php?ics=1&id=12
URL;VALUE=URI:https://39laundry.com.tr/exhibition.php?ics=1&id=12
END:VEVENT
END:VCALENDAR