BEGIN:VCALENDAR
VERSION:2.0
PRODID:-//39Laundry//Exhibition//TR
CALSCALE:GREGORIAN
METHOD:PUBLISH
BEGIN:VEVENT
UID:exh-11@39laundry.com.tr
DTSTAMP:20260420T045133Z
DTSTART;VALUE=DATE:20211222
DTEND;VALUE=DATE:20220111
SUMMARY:Benim Dünyam
LOCATION:Mahallede Sanat
DESCRIPTION:https://39laundry.com.tr/exhibition.php?ics=1&id=11
URL;VALUE=URI:https://39laundry.com.tr/exhibition.php?ics=1&id=11
END:VEVENT
END:VCALENDAR