BEGIN:VCALENDAR
VERSION:2.0
PRODID:-//39Laundry//Exhibition//TR
CALSCALE:GREGORIAN
METHOD:PUBLISH
BEGIN:VEVENT
UID:exh-10@39laundry.com.tr
DTSTAMP:20260420T045134Z
DTSTART;VALUE=DATE:20220415
DTEND;VALUE=DATE:20220509
SUMMARY:Söyleyeceklerim Var
LOCATION:Mahallede Sanat
DESCRIPTION:https://39laundry.com.tr/exhibition.php?ics=1&id=10
URL;VALUE=URI:https://39laundry.com.tr/exhibition.php?ics=1&id=10
END:VEVENT
END:VCALENDAR