BEGIN:VCALENDAR
VERSION:2.0
PRODID:-//39Laundry//Exhibition//TR
CALSCALE:GREGORIAN
METHOD:PUBLISH
BEGIN:VEVENT
UID:exh-1@39laundry.com.tr
DTSTAMP:20260420T045242Z
DTSTART;VALUE=DATE:20250919
DTEND;VALUE=DATE:20251007
SUMMARY:İki Sanatçı İki Stil
LOCATION:Mahallede Sanat
DESCRIPTION:https://39laundry.com.tr/exhibition.php?ics=1&id=1
URL;VALUE=URI:https://39laundry.com.tr/exhibition.php?ics=1&id=1
END:VEVENT
END:VCALENDAR